Workbook
Name Session2: #REF!
Name Session2: #REF!
Name Session1: #REF!
Name Session1: #REF!
Name Session1: #REF!
Name Session1: #REF!
Name Session2: #REF!
Name Session2: #REF!
Name Session2: #REF!
Name Session1: #REF!

Sheet School information
A1: Please provide the following information about your school and participating French teachers
A2: CONGRES 2026 - Center Grove High School
A4: School name and address
B5: Directions for using this registration workbook:
B6: 1. Please coordinate with your French colleagues at your school when completing this workbook.
B7: Resolve any internal overlap/conflicts before submitting.
B8: 2. Submission of multiple registration workbooks from one school that results in exceeding maximum numbers in a contest
B9: will result in disqualifications.
B10: 3. USE ONLY MICROSOFT EXCEL to complete information. Google Sheets does not support all of this workbook's functionality.
A11: French teacher 1 | B11: 4. Complete the "School information" and "Students" tabs BEFORE attempting to complete session registrations.
B12: Information and menus will populate from the "School" and "Students" tabs into the "Session" tabs.
B13: If you attempt to register a student for more than one contest during a session, the cells will turn red to alert you to correct the issue.
B14: 5. Once finished, save a copy of the completed Excel workbook and E-mail it to: Thomas Maxwell maxwellt@franklinschools.org
B15: You will receive a confirmation E-mail from the registrar once the registration is received and processed.
A17: French teacher 2
A19: E-mail address:
A21: Emergency phone:
A24: Number of students we're registering
A26: x $5.00 / student
A28: Total fee
A29: =A25*5 -> 0
A30: Please mail payment to:
A31: Amy Berry
A32: Greencastle High School
A33: 910 E. Washington Street
A34: Greencastle, IN 46135
A35: Make check payable to IASF

Sheet Students
A1: Students | B1: Please enter the names of all students competing in the Contest by Level, including any poster contest-only entrants.
B2: Please put a * next to any Native Speaker entrant. These may not participate in written contests. E-mail Amy Berry with questions about eligibility.
A3: French I | B3: French II | C3: French III | D3: French IV+

Sheet Session 1
A1: Session 1 (10:00 a.m. - 10:55 a.m.) | C1: Consult the Congrès website for Contest Descriptions and Rubrics.
C2: Level 1 | D2: Level 2 | E2: Level 3 | F2: Level 4
A3: Histoire et Culture | C3: Three (3) students per level
A4: ='School information'!$A$5
A5: ='School information'!$A$5
A6: ='School information'!$A$5
A8: Conversation Sans Cesse | C8: Two (2) PAIRS per level
A9: ='School information'!$A$5 | B9: A
A10: ='School information'!$A$5 | B10: A
A11: ='School information'!$A$5 | B11: B
A12: ='School information'!$A$5 | B12: B
A14: Pièce débutante | C14: (A max of 8 total students in Levels 1 & 2)
A15: ='School information'!$A$5
A16: ='School information'!$A$5
A17: ='School information'!$A$5
A18: ='School information'!$A$5
A19: ='School information'!$A$5
A20: ='School information'!$A$5
A21: ='School information'!$A$5
A22: ='School information'!$A$5
A24: Pièce avancée | E24: A max of 8 total students in Levels 3&4
A25: ='School information'!$A$5
A26: ='School information'!$A$5
A27: ='School information'!$A$5
A28: ='School information'!$A$5
A29: ='School information'!$A$5
A30: ='School information'!$A$5
A31: ='School information'!$A$5
A32: ='School information'!$A$5
A34: Musique instrumentale Ensemble | C34: One group per school in EITHER Débutant or Avancée.
A35: Mark an X in the red box to register a Débutante group.
A36: Débutante
A37: ='School information'!$A$5
A38: ='School information'!$A$5
A39: ='School information'!$A$5
A40: ='School information'!$A$5
A41: ='School information'!$A$5
A42: ='School information'!$A$5
A43: ='School information'!$A$5
A44: ='School information'!$A$5
A45: ='School information'!$A$5
A46: ='School information'!$A$5
A47: ='School information'!$A$5
A49: Musique instrumentale Ensemble | C49: One group per school in EITHER Débutant or Avancée
A50: Mark an X in the red box to register an Avancée group.
A51: Avancée
A52: ='School information'!$A$5
A53: ='School information'!$A$5
A54: ='School information'!$A$5
A55: ='School information'!$A$5
A56: ='School information'!$A$5
A57: ='School information'!$A$5
A58: ='School information'!$A$5
A59: ='School information'!$A$5
A60: ='School information'!$A$5
A61: ='School information'!$A$5
A62: ='School information'!$A$5

Sheet Session 2
A1: Session 2 (11:00 a.m. - 11:55 a.m.) | C1: Consult the Congrès website for Contest descriptions and Rubrics.
C2: Level 1 | D2: Level 2 | E2: Level 3 | F2: Level 4
A3: Version (Translation) | C3: Three (3) students per level.
A4: ='School information'!$A$5
A5: ='School information'!$A$5
A6: ='School information'!$A$5
A8: Lecture à Haute Voix (Sight Reading) | C8: Two (2) students per level
A9: ='School information'!$A$5
A10: ='School information'!$A$5
A12: Phrases mélangées (Scrambled sentences) | C12: Three (3) students per level
A13: ='School information'!$A$5
A14: ='School information'!$A$5
A15: ='School information'!$A$5
A17: Danse individuelle | C17: Mixed Level--One student per school, total.
A18: ='School information'!$A$5
A20: Musique Vocale Ensemble | C20: One group per school in EITHER Débutant or Avancée.
A21: Mark an X in the red box to register a Débutante group.
A22: Débutante
A23: ='School information'!$A$5
A24: ='School information'!$A$5
A25: ='School information'!$A$5
A26: ='School information'!$A$5
A27: ='School information'!$A$5
A28: ='School information'!$A$5
A29: ='School information'!$A$5
A30: ='School information'!$A$5
A31: ='School information'!$A$5
A32: ='School information'!$A$5
A33: ='School information'!$A$5
A35: Musique Vocale Ensemble | C35: One group per school in EITHER Débutant or Avancée
A36: Mark an X in the red box to register an Avancée group.
A37: Avancée
A38: ='School information'!$A$5
A39: ='School information'!$A$5
A40: ='School information'!$A$5
A41: ='School information'!$A$5
A42: ='School information'!$A$5
A43: ='School information'!$A$5
A44: ='School information'!$A$5
A45: ='School information'!$A$5
A46: ='School information'!$A$5
A47: ='School information'!$A$5
A48: ='School information'!$A$5

Sheet Session 3
A1: Session 3 (Noon - 12:55 p.m.) | C1: Consult the Congrès website for Contest descriptions and Rubrics.
C2: Level 1 | D2: Level 2 | E2: Level 3 | F2: Level 4
A3: Dictée (Dictation) | C3: Three (3) students per level.
A4: ='School information'!$A$5
A5: ='School information'!$A$5
A6: ='School information'!$A$5
A8: Géographie (Geography) | C8: Three (3) students per level
A9: ='School information'!$A$5
A10: ='School information'!$A$5
A11: ='School information'!$A$5
A13: Récitation poétique (Poetry recitation) | C13: Three Students per level
A14: ='School information'!$A$5
A15: ='School information'!$A$5
A16: ='School information'!$A$5
A18: Musique Vocale Solo | C18: One entry per school in EITHER Débutante or Avancée
A19: Mark an X in the red box to register a Débutante vocalist.
A20: Débutante
A21: ='School information'!$A$5
A23: Musique Vocale Solo | C23: One entry per school in EITHER Débutante or Avancée.
A24: Mark an X in the red box to register an Avancée vocalist.
A25: Avancée
A26: ='School information'!$A$5

Sheet Session 4
A1: Session 4 (1:00 p.m. - 1:55 p.m.) | C1: Consult the Congrès website for Contest descriptions and Rubrics.
C2: Level 1 | D2: Level 2 | E2: Level 3 | F2: Level 4
A3: Vocabulaire (Vocabulary) | C3: Three (3) students per level
A4: ='School information'!$A$5
A5: ='School information'!$A$5
A6: ='School information'!$A$5
A8: Discours impromptu (Extemporaneous speaking) | C8: Three (3) students per level.
A9: ='School information'!$A$5
A10: ='School information'!$A$5
A11: ='School information'!$A$5
A13: Trivia | C13: Three (3) students per SCHOOL, TOTAL. Mixed levels
A14: ='School information'!$A$5
A15: ='School information'!$A$5
A16: ='School information'!$A$5
A18: Danse traditionnelle | C18: One group per SCHOOL of 4 - 8 students. Mixed levels
A19: ='School information'!$A$5
A20: ='School information'!$A$5
A21: ='School information'!$A$5
A22: ='School information'!$A$5
A23: ='School information'!$A$5
A24: ='School information'!$A$5
A25: ='School information'!$A$5
A26: ='School information'!$A$5
A28: Musique Instrumentale Solo | C28: One entry per school in EITHER Débutante or Avancée
A29: Mark an X in the red box to register a Débutante musician.
A30: Débutante
A31: ='School information'!$A$5
A33: Musique Instrumentale Solo | C33: One entry per school in EITHER Débutante or Avancée.
A34: Mark an X in the red box to register an Avancée musician.
A35: Avancée
A36: ='School information'!$A$5

Sheet Affiches
A1: Affiches (Poster contest) | B1: Please refer to the Congrès website for specifications on poster types and required poster registration forms.
C2: Level 1 | D2: Level 2 | E2: Level 3 | F2: Level 4
A3: Affiches graphiques / Graphic Art posters | C3: One entry per poster type per level | E3: 8 entries total, max.
A4: ='School information'!$A$5
A6: Beaux arts / Studio Art posters | C6: One entry per poster type per level | E6: 8 entries total, max.
A7: ='School information'!$A$5
